BEGIN:VCALENDAR
PRODID:-//github.com/rianjs/ical.net//NONSGML ical.net 4.0//EN
VERSION:2.0
BEGIN:VEVENT
DESCRIPTION:Unsere TourGuides Ursula Schmidt-Wehring & Harald Schmidt entf
 ühren die Radelnden in den Klosterwald nach Dinklage mit Einkehrmöglichke
 it im Burghotel Dinklage.\nhttps://touren-termine.adfc.de/radveranstaltun
 g/175073-tour-in-den-klosterwald
DTEND:20260628T150000Z
DTSTAMP:20260424T195219Z
DTSTART:20260628T090000Z
LOCATION:Am Bahnhof 1\, 49356 Diepholz
SEQUENCE:0
SUMMARY:Tour in den Klosterwald
UID:8713db62-157e-426c-bf8b-44ef00a4d2d0
URL:https://touren-termine.adfc.de/radveranstaltung/175073-tour-in-den-klo
 sterwald
END:VEVENT
END:VCALENDAR
