BEGIN:VCALENDAR
PRODID:-//github.com/rianjs/ical.net//NONSGML ical.net 4.0//EN
VERSION:2.0
BEGIN:VEVENT
DESCRIPTION:Auf ruhigen Wegen zum Gutshof Britz und entlang des Mauerweges
  zum Herthateich. Über Dahlewitz zum verträumten Rangsdorf. Pause auf dem
  Hafenfest. Ende S-Bhf. Lichterfelde-Süd. Keine Anmeldung nötig.\nhttps:/
 /touren-termine.adfc.de/radveranstaltung/198370-um-den-rangsdorfer-see
DTEND:20260501T153000Z
DTSTAMP:20260424T202143Z
DTSTART:20260501T073000Z
LOCATION:U-Bhf. Südstern\, Vorplatz\, 10961 Berlin
SEQUENCE:0
SUMMARY:Um den Rangsdorfer See
UID:b5d55b37-dc33-46f6-947b-44252c5c9f26
URL:https://touren-termine.adfc.de/radveranstaltung/198370-um-den-rangsdor
 fer-see
END:VEVENT
END:VCALENDAR
