BEGIN:VCALENDAR
PRODID:-//github.com/rianjs/ical.net//NONSGML ical.net 4.0//EN
VERSION:2.0
BEGIN:VEVENT
DESCRIPTION:In diesem Kurs wird gezeigt\, wie kleinere Mängel selbst behob
 en und größere Reparaturen vermieden werden können. Eigenes Fahrrad mitzu
 bringen. Anmeldung bis 31.01.2026\nhttps://touren-termine.adfc.de/radvera
 nstaltung/174138-pannenkurs-basic-reparaturkurs-kf-mit-eig-rad
DTEND:20260207T170000Z
DTSTAMP:20260419T155717Z
DTSTART:20260207T130000Z
LOCATION:BikersDreams\, Moosmangstraße 6\, 87600 Kaufbeuren
SEQUENCE:0
SUMMARY:Pannenkurs Basic - Reparaturkurs KF - mit eig. Rad
UID:383a21ca-ca3a-46dd-be6b-21960d3162ba
URL:https://touren-termine.adfc.de/radveranstaltung/174138-pannenkurs-basi
 c-reparaturkurs-kf-mit-eig-rad
END:VEVENT
END:VCALENDAR
