BEGIN:VCALENDAR
PRODID:-//github.com/rianjs/ical.net//NONSGML ical.net 4.0//EN
VERSION:2.0
BEGIN:VEVENT
DESCRIPTION:Wir beschäftigen uns mit der Verkehrsplanung im Bezirk.\nhttps
 ://touren-termine.adfc.de/radveranstaltung/169040-adfcbezirksgruppe-wands
 bek
DTEND:20250805T193000Z
DTSTAMP:20260420T232657Z
DTSTART:20250805T170000Z
LOCATION:Tegelweg 91\, 22159 Hamburg\, Farmsen-Berne
SEQUENCE:0
SUMMARY:ADFC-Bezirksgruppe Wandsbek
UID:1c88cfe4-0446-46e6-9b46-71e68da33373
URL:https://touren-termine.adfc.de/radveranstaltung/169040-adfcbezirksgrup
 pe-wandsbek
END:VEVENT
END:VCALENDAR
