BEGIN:VCALENDAR
PRODID:-//github.com/rianjs/ical.net//NONSGML ical.net 4.0//EN
VERSION:2.0
BEGIN:VEVENT
DESCRIPTION:Einfache Feierabend - Radtour rund um Stadthagen. Jeder\, idea
 l auch für Einsteiger\, der ein verkehrssicheres Fahrrad besitzt und sich
  auf dem Fahrrad wohlfühlt\, kann gerne teilnehmen.\nhttps://touren-termi
 ne.adfc.de/radveranstaltung/130082-mittwochsradeln-rund-um-stadthagen
DTEND:20240626T183000Z
DTSTAMP:20260420T175015Z
DTSTART:20240626T163000Z
LOCATION:Am Markt 1\, 31655 Stadthagen
SEQUENCE:0
SUMMARY:Mittwochsradeln rund um Stadthagen
UID:9a25f930-92d5-46d4-ae20-1c4b1b60f774
URL:https://touren-termine.adfc.de/radveranstaltung/130082-mittwochsradeln
 -rund-um-stadthagen
END:VEVENT
END:VCALENDAR
