BEGIN:VCALENDAR
PRODID:-//github.com/rianjs/ical.net//NONSGML ical.net 4.0//EN
VERSION:2.0
BEGIN:VEVENT
DESCRIPTION:Machen Sie es Langfingern schwer!\nhttps://touren-termine.adfc
 .de/radveranstaltung/137696-fahrradcodierung-beim-friedensfest-in-altenbe
 rge
DTEND:20240907T160000Z
DTSTAMP:20260419T144128Z
DTSTART:20240907T120000Z
LOCATION:Auf dem Gelände des Heimatvereins Altenberge\, Friedhofstraße 5\,
  48341 Kreis Steinfurt
SEQUENCE:0
SUMMARY:Fahrradcodierung beim Friedensfest in Altenberge
UID:65868c16-f3d1-409f-b90a-3669593bbd2a
URL:https://touren-termine.adfc.de/radveranstaltung/137696-fahrradcodierun
 g-beim-friedensfest-in-altenberge
END:VEVENT
END:VCALENDAR
