BEGIN:VCALENDAR
PRODID:-//github.com/rianjs/ical.net//NONSGML ical.net 4.0//EN
VERSION:2.0
BEGIN:VEVENT
DESCRIPTION:Die Tour führt über gut befahrbare Wald-und ausgebaute Radwege
  und wir besuchen das Dorf und Gut Hobrechtsfelde.\nhttps://touren-termin
 e.adfc.de/radveranstaltung/164631-von-wandlitz-nach-hobrechtsfelde
DTEND:20250511T150000Z
DTSTAMP:20260425T015936Z
DTSTART:20250511T090000Z
LOCATION:Bahnhofsvorplatz Wandlitzsee\, 16348 Wandlitz
SEQUENCE:0
SUMMARY:Von Wandlitz nach Hobrechtsfelde
UID:5ff51aad-d0ee-48a4-8db5-007e25418ca9
URL:https://touren-termine.adfc.de/radveranstaltung/164631-von-wandlitz-na
 ch-hobrechtsfelde
END:VEVENT
END:VCALENDAR
