BEGIN:VCALENDAR
PRODID:-//github.com/rianjs/ical.net//NONSGML ical.net 4.0//EN
VERSION:2.0
BEGIN:VEVENT
DESCRIPTION:Ein stressfreies Radeln in der Natur mit Blick auf Sehenswürdi
 gkeiten steht im Vordergrund dieser Tour. Wir bitten um Voranmeldung.\nht
 tps://touren-termine.adfc.de/radveranstaltung/189265-damentourradtour-zur
 -sophienquelle-bei-altdorf
DTEND:20260517T143000Z
DTSTAMP:20260424T230621Z
DTSTART:20260517T070000Z
LOCATION:Schauturm im LGS-Gelände\, Dr.-Kurz-Str.\,\, 92318 Neumarkt in de
 r Oberpfalz
SEQUENCE:0
SUMMARY:Damentour_Radtour zur Sophienquelle bei Altdorf
UID:e34e65f9-8e13-4df9-a9b3-b87610097fda
URL:https://touren-termine.adfc.de/radveranstaltung/189265-damentourradtou
 r-zur-sophienquelle-bei-altdorf
END:VEVENT
END:VCALENDAR
