BEGIN:VCALENDAR
PRODID:-//github.com/rianjs/ical.net//NONSGML ical.net 4.0//EN
VERSION:2.0
BEGIN:VEVENT
DESCRIPTION:Satzungsgemäß jährliche Mitgliederversammlung\nhttps://touren-
 termine.adfc.de/radveranstaltung/184630-mitgliederversammlung
DTEND:20260206T200000Z
DTSTAMP:20260423T201623Z
DTSTART:20260206T180000Z
LOCATION:Zum Flugplatz\, 27356 Rotenburg
SEQUENCE:0
SUMMARY:Mitgliederversammlung
UID:cdd6ba3b-27ec-444b-ac2c-74852ed56608
URL:https://touren-termine.adfc.de/radveranstaltung/184630-mitgliederversa
 mmlung
END:VEVENT
END:VCALENDAR
