BEGIN:VCALENDAR
PRODID:-//github.com/rianjs/ical.net//NONSGML ical.net 4.0//EN
VERSION:2.0
BEGIN:VEVENT
DESCRIPTION:Jeden 3. Freitag im Monat\, Treffpunkt immer 18:00 Uhr\, immer
  am Marktplatz Rheydt\, ca. 1\,5 h\nhttps://touren-termine.adfc.de/radver
 anstaltung/85153-adfcabendradtour
DTEND:20230721T173000Z
DTSTAMP:20260423T134151Z
DTSTART:20230721T160000Z
LOCATION:Hauptstraße\, 41236 Mönchengladbach
SEQUENCE:0
SUMMARY:ADFC-AbendRadTour
UID:02eaf3d6-c86f-425c-a9f3-1d28d6a652cd
URL:https://touren-termine.adfc.de/radveranstaltung/85153-adfcabendradtour
END:VEVENT
END:VCALENDAR
