BEGIN:VCALENDAR
PRODID:-//github.com/rianjs/ical.net//NONSGML ical.net 4.0//EN
VERSION:2.0
BEGIN:VEVENT
DESCRIPTION:Im September finden die wöchentlichen Kurztouren Mittwochs ab 
 17.oo statt.\nStart wie immer ab Rathaus GBW.\nhttps://touren-termine.adf
 c.de/radveranstaltung/127696-kurztour
DTEND:20250903T170000Z
DTSTAMP:20260423T182342Z
DTSTART:20250903T150000Z
LOCATION:Fuhrberger Straße\, 30938 Burgwedel
SEQUENCE:0
SUMMARY:Kurztour
UID:959b28aa-fca9-441c-9b17-7030ec96ce51
URL:https://touren-termine.adfc.de/radveranstaltung/127696-kurztour
END:VEVENT
END:VCALENDAR
