BEGIN:VCALENDAR
PRODID:-//github.com/rianjs/ical.net//NONSGML ical.net 4.0//EN
VERSION:2.0
BEGIN:VEVENT
DESCRIPTION:Nachdem wir unsere Mountainbikes überprüft haben\, geht es auf
  die Tour nach Deinste. Sie dauert insgesamt zweieinhalb bis drei Stunden
 .\nhttps://touren-termine.adfc.de/radveranstaltung/184609-mountainbiketou
 r-fur-anfanger-und-amateure
DTEND:20260530T094500Z
DTSTAMP:20260420T213120Z
DTSTART:20260530T070000Z
LOCATION:Stadeum\, Schiffertorsstraße 6\, 21682 Stade
SEQUENCE:0
SUMMARY:Mountainbike-Tour für Anfänger und Amateure
UID:d8d6b1b5-2979-4f63-b744-38de707c3d73
URL:https://touren-termine.adfc.de/radveranstaltung/184609-mountainbiketou
 r-fur-anfanger-und-amateure
END:VEVENT
END:VCALENDAR
