BEGIN:VCALENDAR
PRODID:-//github.com/rianjs/ical.net//NONSGML ical.net 4.0//EN
VERSION:2.0
BEGIN:VEVENT
DESCRIPTION:Fahrradcodierung am 23. März 2026 von 17:00 bis 20:00 Uhr im I
 nfoladen in der Heroldstraße 2\, 90408 Nürnberg. Melde dich jetzt an\, si
 chere dir einen Termin und erspare dir eine Wartezeit vor Ort!\nhttps://t
 ouren-termine.adfc.de/radveranstaltung/185484-fahrradcodierung-heroldstra
 sse-2-90402-nurnberg
DTEND:20260323T190000Z
DTSTAMP:20260423T165900Z
DTSTART:20260323T160000Z
LOCATION:Heroldstraße 2\, 90408 Nürnberg
SEQUENCE:0
SUMMARY:Fahrradcodierung Heroldstraße 2\, 90402 Nürnberg
UID:67f39857-0958-4d41-97ab-21b5e12bcbf3
URL:https://touren-termine.adfc.de/radveranstaltung/185484-fahrradcodierun
 g-heroldstrasse-2-90402-nurnberg
END:VEVENT
END:VCALENDAR
