BEGIN:VCALENDAR
PRODID:-//github.com/rianjs/ical.net//NONSGML ical.net 4.0//EN
VERSION:2.0
BEGIN:VEVENT
DESCRIPTION:Radtour  von Benningen am Neckar bis Kirchheim\; dann weiter ü
 ber Löchgau und Bietigheim nach Tamm\nhttps://touren-termine.adfc.de/radv
 eranstaltung/142404-von-benningen-nach-tamm
DTEND:20241218T160000Z
DTSTAMP:20260424T143838Z
DTSTART:20241218T082000Z
LOCATION:Wiener Platz\, 70469 Stuttgart
SEQUENCE:0
SUMMARY:Von Benningen nach Tamm
UID:9ebdd3b8-fef2-47d3-a0de-5ff684a0a15f
URL:https://touren-termine.adfc.de/radveranstaltung/142404-von-benningen-n
 ach-tamm
END:VEVENT
END:VCALENDAR
