BEGIN:VCALENDAR
PRODID:-//github.com/rianjs/ical.net//NONSGML ical.net 4.0//EN
VERSION:2.0
BEGIN:VEVENT
DESCRIPTION:Die Bürgerenergie BE-ALFA und weitere Gruppen/Organisationen i
 nformieren über Klimaschutz und nachhaltige Energieversorgung. Als Rahmen
 programm gibt´s:  Hüpfburg · Musik · Essen & Trinken · Sternfahrt\nhttps:
 //touren-termine.adfc.de/radveranstaltung/161952-2-k-l-i-m-a-f-e-s-t-im-l
 aurentiuspark
DTEND:20250524T160000Z
DTSTAMP:20260421T114821Z
DTSTART:20250524T120000Z
LOCATION:Jahnring 3\, 29336 Nienhagen\, 29336 Landkreis Celle
SEQUENCE:0
SUMMARY:2.  K L I M A F E S T im Laurentiuspark
UID:c137469e-f782-4c95-8ca4-fb512de8a8e0
URL:https://touren-termine.adfc.de/radveranstaltung/161952-2-k-l-i-m-a-f-e
 -s-t-im-laurentiuspark
END:VEVENT
END:VCALENDAR
