BEGIN:VCALENDAR
PRODID:-//github.com/rianjs/ical.net//NONSGML ical.net 4.0//EN
VERSION:2.0
BEGIN:VEVENT
DESCRIPTION:Dieses Angebot passt zu allen\, die nach einem Arbeitstag sich
  nochmal auslüften wollen\, die Lungen mit frischer Luft tanken und/oder 
 einfach ein bis zwei Stunden Bewegung benötigen.\nhttps://touren-termine.
 adfc.de/radveranstaltung/157350-alle-wege-fuhren-um-katzwang-feierabendto
 ur
DTEND:20250506T183000Z
DTSTAMP:20260425T172845Z
DTSTART:20250506T161500Z
LOCATION:Rosine-Speicher-Straße (Wendehammer) Katzwang\, 90455 Nürnberg
SEQUENCE:0
SUMMARY:Alle Wege führen um Katzwang - Feierabendtour
UID:f646669c-cd65-4fd3-985a-861dfc8a550d
URL:https://touren-termine.adfc.de/radveranstaltung/157350-alle-wege-fuhre
 n-um-katzwang-feierabendtour
END:VEVENT
END:VCALENDAR
