BEGIN:VCALENDAR
PRODID:-//github.com/rianjs/ical.net//NONSGML ical.net 4.0//EN
VERSION:2.0
BEGIN:VEVENT
DESCRIPTION:Unsere Geschäftsstelle ist während der NRW-Schulferien geschlo
 ssen.\nhttps://touren-termine.adfc.de/radveranstaltung/183880-betriebsfer
 ien-unserer-geschaftsstelle
DTEND;VALUE=DATE:20260411
DTSTAMP:20260421T115928Z
DTSTART;VALUE=DATE:20260330
LOCATION:Essen (Innenstadt)\, ADFC Essen Geschäftsstelle\, Rottstraße 5\, 
 45127 Essen
SEQUENCE:0
SUMMARY:Betriebsferien unserer Geschäftsstelle
UID:58925e68-87bc-47bb-85a9-496d8a055a62
URL:https://touren-termine.adfc.de/radveranstaltung/183880-betriebsferien-
 unserer-geschaftsstelle
END:VEVENT
END:VCALENDAR
