BEGIN:VCALENDAR
PRODID:-//github.com/rianjs/ical.net//NONSGML ical.net 4.0//EN
VERSION:2.0
BEGIN:VEVENT
DESCRIPTION:Großdemo für mehr Fahrradförderung nach Düsseldorf. Mit Zwisch
 enstopps in Kleinenbroich\, Büttgen und Neuss.\nhttps://touren-termine.ad
 fc.de/radveranstaltung/131993-fahrradsternfahrt-nrw
DTEND:20240505T150000Z
DTSTAMP:20260423T151927Z
DTSTART:20240505T093000Z
LOCATION:Matthias-Hoeren-Platz\, 41352 Korschenbroich
SEQUENCE:0
SUMMARY:Fahrradsternfahrt NRW
UID:cd23ace1-fd29-41d3-baf8-1e33e727e307
URL:https://touren-termine.adfc.de/radveranstaltung/131993-fahrradsternfah
 rt-nrw
END:VEVENT
END:VCALENDAR
