BEGIN:VCALENDAR
PRODID:-//github.com/rianjs/ical.net//NONSGML ical.net 4.0//EN
VERSION:2.0
BEGIN:VEVENT
DESCRIPTION:Was tut sich im Westen? Fortsetzung der Auftaktveranstaltung  
 – offen für alle!\nOrt: Umweltzentrum\, Rotebühlstraße 86/1 S-West\, 19 U
 hr.\nAnmeldung: daniel.graesel@adfc-bw.de\, peter.friedrich@adfc-bw.de\nh
 ttps://touren-termine.adfc.de/radveranstaltung/171782-radverkehrsgruppe-w
 est
DTEND:20250915T190000Z
DTSTAMP:20260424T151539Z
DTSTART:20250915T170000Z
LOCATION:Rotebühlstraße 86/1\, 70178 Stuttgart
SEQUENCE:0
SUMMARY:Radverkehrsgruppe West
UID:20a8e47f-05ad-4b61-8696-426a6c1f2124
URL:https://touren-termine.adfc.de/radveranstaltung/171782-radverkehrsgrup
 pe-west
END:VEVENT
END:VCALENDAR
