BEGIN:VCALENDAR
PRODID:-//github.com/rianjs/ical.net//NONSGML ical.net 4.0//EN
VERSION:2.0
BEGIN:VEVENT
DESCRIPTION:Regelmäßige Tagestour mit Start in Gauting zu einem naturkundl
 ich\, historisch\, kunsthistorisch oder tagesaktuell interessanten Ziel i
 m Südwesten von München.\nZiel heute:\nhttps://touren-termine.adfc.de/rad
 veranstaltung/154341-unterwegs-im-sudwesten
DTEND:20250515T150000Z
DTSTAMP:20260425T151023Z
DTSTART:20250515T080000Z
LOCATION:Rathaus\, Bahnhofstraße 7\, 82131 Gauting
SEQUENCE:0
SUMMARY:Unterwegs im Südwesten
UID:31ccdf06-268b-46f7-9630-9f2f2bed3c47
URL:https://touren-termine.adfc.de/radveranstaltung/154341-unterwegs-im-su
 dwesten
END:VEVENT
END:VCALENDAR
