BEGIN:VCALENDAR
PRODID:-//github.com/rianjs/ical.net//NONSGML ical.net 4.0//EN
VERSION:2.0
BEGIN:VEVENT
DESCRIPTION:Immer mittwochs bis September. 40 km in 2 Stunden mit Pause(n)
 .\nTreffpunkt: 18 Uhr Fansteinraute im Borussia-Park\nhttps://touren-term
 ine.adfc.de/radveranstaltung/118598-adfcafterworksporttour-2024
DTEND:20240501T180000Z
DTSTAMP:20260421T231259Z
DTSTART:20240501T160000Z
LOCATION:Fan-Raute am Borussia Park\, 41179 Mönchengladbach
SEQUENCE:0
SUMMARY:ADFC-Afterwork-Sporttour 2024
UID:4974f8eb-a8be-48ee-8187-231177fe5415
URL:https://touren-termine.adfc.de/radveranstaltung/118598-adfcafterworksp
 orttour-2024
END:VEVENT
END:VCALENDAR
