BEGIN:VCALENDAR
PRODID:-//github.com/rianjs/ical.net//NONSGML ical.net 4.0//EN
VERSION:2.0
BEGIN:VEVENT
DESCRIPTION:Überwiegend auf Waldwegen  mit Pedelecs zur Martinshardt und z
 um Kindelsberg. Auf der Abfahrt Biostop beim Eichenhof.\nUm Anmeldung wir
 d gebeten.\nhttps://touren-termine.adfc.de/radveranstaltung/147399-pedele
 cfeierabendradeln-eroffnungstour
DTEND:20250403T183000Z
DTSTAMP:20260422T234717Z
DTSTART:20250403T160000Z
LOCATION:Marburgerstraße\, Roter Platz\, 57223 Kreuztal
SEQUENCE:0
SUMMARY:Pedelec-Feierabendradeln Eröffnungstour
UID:c9d82bd7-4813-4705-afd9-43869c545a34
URL:https://touren-termine.adfc.de/radveranstaltung/147399-pedelecfeierabe
 ndradeln-eroffnungstour
END:VEVENT
END:VCALENDAR
