BEGIN:VCALENDAR
PRODID:-//github.com/rianjs/ical.net//NONSGML ical.net 4.0//EN
VERSION:2.0
BEGIN:VEVENT
DESCRIPTION:Radtour zum Tag der offenen Gärtnereien\nhttps://touren-termin
 e.adfc.de/radveranstaltung/125533-bamberg-erfahren-durch-die-gartnerstadt
DTEND:20240428T150000Z
DTSTAMP:20260421T133227Z
DTSTART:20240428T080000Z
LOCATION:Wunderburg\, 96050 Bamberg
SEQUENCE:0
SUMMARY:Bamberg erfahren - durch die Gärtnerstadt
UID:c28fa528-e682-47c4-bce0-6073fd3a60fe
URL:https://touren-termine.adfc.de/radveranstaltung/125533-bamberg-erfahre
 n-durch-die-gartnerstadt
END:VEVENT
END:VCALENDAR
