BEGIN:VCALENDAR
PRODID:-//github.com/rianjs/ical.net//NONSGML ical.net 4.0//EN
VERSION:2.0
BEGIN:VEVENT
DESCRIPTION:Das Event 2024 läuft auch in diesem Jahr ganz im Zeichen des g
 uten Zwecks. Der Erlös aller Spenden/ Einnahmen geht zu 100% an die VOR-T
 OUR der Hoffnung.\nhttps://touren-termine.adfc.de/radveranstaltung/130174
 -spenden-fahrrad-marathon-30-in-bacharachsteeg
DTEND:20240608T140000Z
DTSTAMP:20260421T155834Z
DTSTART:20240608T080000Z
LOCATION:Blücherstraße 252 55422 BACHERACH-STEEG\, 55422 Bacharach
SEQUENCE:0
SUMMARY:Spenden FAHRRAD Marathon 3.0 in Bacharach-Steeg
UID:51eba725-4bef-4738-b87c-559d7357bb5a
URL:https://touren-termine.adfc.de/radveranstaltung/130174-spenden-fahrrad
 -marathon-30-in-bacharachsteeg
END:VEVENT
END:VCALENDAR
