BEGIN:VCALENDAR
PRODID:-//github.com/rianjs/ical.net//NONSGML ical.net 4.0//EN
VERSION:2.0
BEGIN:VEVENT
DESCRIPTION:Zu einem besonderen Gasthaus mit Wirtshausmuseum radeln wir be
 i dieser gemütlichen Tour.\nhttps://touren-termine.adfc.de/radveranstaltu
 ng/155800-ins-wirtshausmuseum-nach-bachhausen
DTEND:20250920T160000Z
DTSTAMP:20260425T021452Z
DTSTART:20250920T120000Z
LOCATION:Schauturm im LGS-Gelände\, Dr.-Kurz-Str.\,\, 92318 Neumarkt in de
 r Oberpfalz
SEQUENCE:0
SUMMARY:Ins Wirtshausmuseum nach Bachhausen
UID:c304280d-149f-45e7-b369-f5b631e0c5ad
URL:https://touren-termine.adfc.de/radveranstaltung/155800-ins-wirtshausmu
 seum-nach-bachhausen
END:VEVENT
END:VCALENDAR
