BEGIN:VCALENDAR
PRODID:-//github.com/rianjs/ical.net//NONSGML ical.net 4.0//EN
VERSION:2.0
BEGIN:VEVENT
DESCRIPTION:Kennenlerntour durch Stuttgarter Stadtteile\nhttps://touren-te
 rmine.adfc.de/radveranstaltung/163697-fahrradstadtteiltour-mohringen
DTEND:20250628T150000Z
DTSTAMP:20260424T144612Z
DTSTART:20250628T120000Z
LOCATION:Filderbahnplatz\, 70567 Stuttgart
SEQUENCE:0
SUMMARY:Fahrrad-Stadtteiltour Möhringen
UID:8811ae51-5b79-4405-b559-7239fd139644
URL:https://touren-termine.adfc.de/radveranstaltung/163697-fahrradstadttei
 ltour-mohringen
END:VEVENT
END:VCALENDAR
