BEGIN:VCALENDAR
PRODID:-//github.com/rianjs/ical.net//NONSGML ical.net 4.0//EN
VERSION:2.0
BEGIN:VEVENT
DESCRIPTION:Das AktivenForum richtet sich an alle\, die als Ehrenamtliche 
 für den ADFC Berlin aktiv sind. Wir bringen uns auf den aktuellen Stand u
 nd berichten von unserer Arbeit.\nhttps://touren-termine.adfc.de/radveran
 staltung/120114-aktivenforum
DTEND:20240212T193000Z
DTSTAMP:20260424T173316Z
DTSTART:20240212T180000Z
LOCATION:Online\, 10963 Berlin
SEQUENCE:0
SUMMARY:AktivenForum
UID:3ab6432a-add4-4779-99e6-8b28430a6cd7
URL:https://touren-termine.adfc.de/radveranstaltung/120114-aktivenforum
END:VEVENT
END:VCALENDAR
