BEGIN:VCALENDAR
PRODID:-//github.com/rianjs/ical.net//NONSGML ical.net 4.0//EN
VERSION:2.0
BEGIN:VEVENT
DESCRIPTION:Drahteselmarkt\nhttps://touren-termine.adfc.de/radveranstaltun
 g/147280-35-drahteselmarkt
DTEND:20250510T140000Z
DTSTAMP:20260424T173350Z
DTSTART:20250510T080000Z
LOCATION:Markt\, 59423 Unna
SEQUENCE:0
SUMMARY:35. Drahteselmarkt
UID:616930ee-dc8e-47c7-b886-257513965a5e
URL:https://touren-termine.adfc.de/radveranstaltung/147280-35-drahteselmar
 kt
END:VEVENT
END:VCALENDAR
