BEGIN:VCALENDAR
PRODID:-//github.com/rianjs/ical.net//NONSGML ical.net 4.0//EN
VERSION:2.0
BEGIN:VEVENT
DESCRIPTION:🌲🚴‍♀️ Feierabend-Graveln! Gemeinsam erkunden wir tolle Strec
 ken rund um Stuttgart – entspannt & gesellig\, kein Rennen. Danach gemein
 samer Ausklang. Sei dabei!\nhttps://touren-termine.adfc.de/radveranstaltu
 ng/158898-neu-gravel-social-afterworkgraveltour
DTEND:20250625T160000Z
DTSTAMP:20260424T151652Z
DTSTART:20250625T160000Z
LOCATION:Feuerseeplatz\, 70176 Stuttgart
SEQUENCE:0
SUMMARY:NEU: Gravel & Social – Afterwork-Graveltour
UID:581f52cf-69ca-4b37-8e90-f17d837804e3
URL:https://touren-termine.adfc.de/radveranstaltung/158898-neu-gravel-soci
 al-afterworkgraveltour
END:VEVENT
END:VCALENDAR
