BEGIN:VCALENDAR
PRODID:-//github.com/rianjs/ical.net//NONSGML ical.net 4.0//EN
VERSION:2.0
BEGIN:VEVENT
DESCRIPTION:Das ADFC-Aktiventreffen bietet die Möglichkeit gemeinsam über 
 aktuelle Themen zu diskutieren\, Ideen auszutauschen und aktiv an unserer
  Vereinsarbeit teilzuhaben.\nhttps://touren-termine.adfc.de/radveranstalt
 ung/181000-adfcaktiventreffen
DTEND:20260826T190000Z
DTSTAMP:20260424T160414Z
DTSTART:20260826T170000Z
LOCATION:Kunstraum im Hundertwasser-Bahnhof\, Friedensreich-Hundertwasser-
 Platz 1\, 29525 Uelzen
SEQUENCE:0
SUMMARY:ADFC-Aktiventreffen
UID:0b26737d-ccc5-483f-ba4f-293d4bb89ebf
URL:https://touren-termine.adfc.de/radveranstaltung/181000-adfcaktiventref
 fen
END:VEVENT
END:VCALENDAR
