BEGIN:VCALENDAR
PRODID:-//github.com/rianjs/ical.net//NONSGML ical.net 4.0//EN
VERSION:2.0
BEGIN:VEVENT
DESCRIPTION:Jeden Montag findet morgens eine Radtour statt.\nhttps://toure
 n-termine.adfc.de/radveranstaltung/145466-montag-morgen-tour
DTEND:20241209T110000Z
DTSTAMP:20260423T201052Z
DTSTART:20241209T090000Z
LOCATION:In der Ahe 29\, 27356 Rotenburg
SEQUENCE:0
SUMMARY:Montag Morgen Tour
UID:ace1677b-fc4f-465a-a5d4-99d9357d72a9
URL:https://touren-termine.adfc.de/radveranstaltung/145466-montag-morgen-t
 our
END:VEVENT
END:VCALENDAR
