BEGIN:VCALENDAR
PRODID:-//github.com/rianjs/ical.net//NONSGML ical.net 4.0//EN
VERSION:2.0
BEGIN:VEVENT
DESCRIPTION:Über Stock und Stein am Abend? Das bieten wir bei unseren MTB-
 Feierabendtouren rund um Bietigheim-Bissingen.\nhttps://touren-termine.ad
 fc.de/radveranstaltung/116756-bietigheimbissinger-mountainbikefeierabendt
 ouren
DTEND:20240814T190000Z
DTSTAMP:20260425T194045Z
DTSTART:20240814T163000Z
LOCATION:Enzpavillon\, 74321 Bietigheim-Bissingen
SEQUENCE:0
SUMMARY:Bietigheim-Bissinger Mountainbike-Feierabendtouren
UID:adb72606-6542-45d9-81da-2c1ee0afb8b0
URL:https://touren-termine.adfc.de/radveranstaltung/116756-bietigheimbissi
 nger-mountainbikefeierabendtouren
END:VEVENT
END:VCALENDAR
