BEGIN:VCALENDAR
PRODID:-//github.com/rianjs/ical.net//NONSGML ical.net 4.0//EN
VERSION:2.0
BEGIN:VEVENT
DESCRIPTION:Ab Bad Wurzach: Tagestour um‘s Wurzacher Ried - Naturschatzkam
 mern - Prämierte ADFC-RadReiseRegion. Mitteleuropas größtes intaktes Hoch
 moor. Startzeit bei Anmeldung.Anmeldung bis 07.08.2024\nhttps://touren-te
 rmine.adfc.de/radveranstaltung/115514-ums-wurzacher-ried-naturschatzkamme
 rn
DTEND;VALUE=DATE:20240810
DTSTAMP:20260425T184351Z
DTSTART;VALUE=DATE:20240810
LOCATION:Parkplatz am Kurhaus\, Kirchbühlstraße\, 88410 Bad Wurzach
SEQUENCE:0
SUMMARY:Um‘s Wurzacher Ried - Naturschatzkammern
UID:e38e4252-04ba-4b7e-be89-b8217f7df1ab
URL:https://touren-termine.adfc.de/radveranstaltung/115514-ums-wurzacher-r
 ied-naturschatzkammern
END:VEVENT
END:VCALENDAR
