BEGIN:VCALENDAR
PRODID:-//github.com/rianjs/ical.net//NONSGML ical.net 4.0//EN
VERSION:2.0
BEGIN:VEVENT
DESCRIPTION:Ohne Anmeldung: Einfach kommen!!! Denn: Der ADFC Langenhagen i
 st ja sowieso schon da! Und: Aufi geht's!\nhttps://touren-termine.adfc.de
 /radveranstaltung/170967-biergartentour-voltmers-hof
DTEND:20250831T160000Z
DTSTAMP:20260424T173128Z
DTSTART:20250831T130000Z
LOCATION:Rathaus / Post\, Marktplatz 1\, 30853 Langenhagen
SEQUENCE:0
SUMMARY:Biergarten-Tour "Voltmer's Hof"ⓇⓈ
UID:6782c70d-07ce-4f75-a7ed-6170db488088
URL:https://touren-termine.adfc.de/radveranstaltung/170967-biergartentour-
 voltmers-hof
END:VEVENT
END:VCALENDAR
