BEGIN:VCALENDAR
PRODID:-//github.com/rianjs/ical.net//NONSGML ical.net 4.0//EN
VERSION:2.0
BEGIN:VEVENT
DESCRIPTION:Wir radeln eine gemütliche Runde zu verschiedenen Zielen in de
 r Stadt und genießen dabei Hamburg-Flair\, Natur und Adfc-Geselligkeit. \
 nNicht bei Regenwetter.\nhttps://touren-termine.adfc.de/radveranstaltung/
 129085-wandsbeker-feierabendcruise
DTEND:20240509T183000Z
DTSTAMP:20260420T230513Z
DTSTART:20240509T163000Z
LOCATION:Liegewiese im Eichtalpark mit ovaler Skulptur\, 22041 Hamburg\, W
 andsbek
SEQUENCE:0
SUMMARY:Wandsbeker Feierabendcruise
UID:3cb61fc9-d5c4-4528-bf78-7a2fba85de08
URL:https://touren-termine.adfc.de/radveranstaltung/129085-wandsbeker-feie
 rabendcruise
END:VEVENT
END:VCALENDAR
