BEGIN:VCALENDAR
PRODID:-//github.com/rianjs/ical.net//NONSGML ical.net 4.0//EN
VERSION:2.0
BEGIN:VEVENT
DESCRIPTION:Niemand ist perfekt\, das Radwegesystem in Cuxhaven schon gar 
 nicht!\nWir unterhalten uns über alle Dinge rund ums Fahrrad und nehmen W
 ünsche und Anregungen an.\nhttps://touren-termine.adfc.de/radveranstaltun
 g/114687-kaffeestunde
DTEND:20241209T160000Z
DTSTAMP:20260421T022611Z
DTSTART:20241209T140000Z
LOCATION:Bürgerbahnhof\, Am Bahnhof 1\, 27472 Cuxhaven
SEQUENCE:0
SUMMARY:Kaffeestunde
UID:17aadd5f-8471-4ed6-a99d-63875bde1d3f
URL:https://touren-termine.adfc.de/radveranstaltung/114687-kaffeestunde
END:VEVENT
END:VCALENDAR
