BEGIN:VCALENDAR
PRODID:-//github.com/rianjs/ical.net//NONSGML ical.net 4.0//EN
VERSION:2.0
BEGIN:VEVENT
DESCRIPTION:Von Tübingen über Bebenhausen nach Holzgerlingen\, auf dem Böb
 linger Radelrund um Sindelfingen herum nach Vaihingen\nhttps://touren-ter
 mine.adfc.de/radveranstaltung/122726-von-tubingen-nach-vaihingen
DTEND:20240303T160000Z
DTSTAMP:20260424T143840Z
DTSTART:20240303T081500Z
LOCATION:Kegelenstraße 12\, 70372 Stuttgart
SEQUENCE:0
SUMMARY:Von Tübingen nach Vaihingen
UID:16f63932-1a85-45ef-8e54-e013f2cd8214
URL:https://touren-termine.adfc.de/radveranstaltung/122726-von-tubingen-na
 ch-vaihingen
END:VEVENT
END:VCALENDAR
