BEGIN:VCALENDAR
PRODID:-//github.com/rianjs/ical.net//NONSGML ical.net 4.0//EN
VERSION:2.0
BEGIN:VEVENT
DESCRIPTION:33_km_S_Buchholz_ML-Kanal_AWB-See\nhttps://touren-termine.adfc
 .de/radveranstaltung/142597-kurztour-33-km-mlkanal
DTEND:20250820T180000Z
DTSTAMP:20260423T105501Z
DTSTART:20250820T160000Z
LOCATION:Rathaus\, Fuhrberger Straße 3\, 30938 Burgwedel
SEQUENCE:0
SUMMARY:Kurztour 33 km ML-Kanal
UID:94575a76-b99d-46e9-8d67-aa3a1d0d0763
URL:https://touren-termine.adfc.de/radveranstaltung/142597-kurztour-33-km-
 mlkanal
END:VEVENT
END:VCALENDAR
