BEGIN:VCALENDAR
PRODID:-//github.com/rianjs/ical.net//NONSGML ical.net 4.0//EN
VERSION:2.0
BEGIN:VEVENT
DESCRIPTION:Niemand ist perfekt\, das Radwegesystem in Cuxhaven schon gar 
 nicht!\nWir unterhalten uns über alle Dinge rund ums Fahrrad und nehmen W
 ünsche und Anregungen an.\nhttps://touren-termine.adfc.de/radveranstaltun
 g/142254-kaffeestunde
DTEND:20250616T150000Z
DTSTAMP:20260421T022449Z
DTSTART:20250616T130000Z
LOCATION:Bürgerbahnhof\, Am Bahnhof 1\, 27472 Cuxhaven
SEQUENCE:0
SUMMARY:Kaffeestunde
UID:f84a447f-a99b-45a7-b80f-62bf0db32288
URL:https://touren-termine.adfc.de/radveranstaltung/142254-kaffeestunde
END:VEVENT
END:VCALENDAR
