BEGIN:VCALENDAR
PRODID:-//github.com/rianjs/ical.net//NONSGML ical.net 4.0//EN
VERSION:2.0
BEGIN:VEVENT
DESCRIPTION:Sambatrasse-Cronenberg-Tal der Wupper-Gräfrath-Me\nhttps://tou
 ren-termine.adfc.de/radveranstaltung/198319-htmesambatrassecronenberggraf
 rathgruiten-nm
DTEND:20260512T140000Z
DTSTAMP:20260423T072420Z
DTSTART:20260512T080000Z
LOCATION:Jubiläumsplatz 7\, 40822 Mettmann
SEQUENCE:0
SUMMARY:HT-ME-Sambatrasse-Cronenberg-Gräfrath-Gruiten -NM
UID:acd4fa8c-fa17-4f41-ac99-aa50aa39a59b
URL:https://touren-termine.adfc.de/radveranstaltung/198319-htmesambatrasse
 cronenberggrafrathgruiten-nm
END:VEVENT
END:VCALENDAR
