BEGIN:VCALENDAR
PRODID:-//github.com/rianjs/ical.net//NONSGML ical.net 4.0//EN
VERSION:2.0
BEGIN:VEVENT
DESCRIPTION:Winterprogramm in Gauting: Eisbärtouren bei trockenem und schö
 nem Wetter von 11 bis 15 Uhr mit mittäglicher Einkehr.\nHeute: Durch das 
 Moos nach Starnberg\, zurück über Gut Rieden\nhttps://touren-termine.adfc
 .de/radveranstaltung/191606-eisbartour-in-gauting
DTEND:20260225T150000Z
DTSTAMP:20260425T150209Z
DTSTART:20260225T093000Z
LOCATION:Rathaus\, Bahnhofstraße 7\, 82131 Gauting
SEQUENCE:0
SUMMARY:Eisbär-Tour in Gauting
UID:67188ab0-ea1f-4715-851a-f3e8c2c6c88b
URL:https://touren-termine.adfc.de/radveranstaltung/191606-eisbartour-in-g
 auting
END:VEVENT
END:VCALENDAR
