BEGIN:VCALENDAR
PRODID:-//github.com/rianjs/ical.net//NONSGML ical.net 4.0//EN
VERSION:2.0
BEGIN:VEVENT
DESCRIPTION:Der Mountainbikeklassiker im Naturpark Stromberg-Heuchelberg: 
 Auf wenig befahrenen Trails geht es über die Höhen des Strombergs\, von w
 o aus wir Natur und Ausblicke in die Ferne genießen.\nhttps://touren-term
 ine.adfc.de/radveranstaltung/181125-der-strombergrennweg-im-sommer
DTEND:20260719T150000Z
DTSTAMP:20260425T194317Z
DTSTART:20260719T070000Z
LOCATION:Kuhriosum (Kronenplatz)\, 74321 Bietigheim-Bissingen
SEQUENCE:0
SUMMARY:Der Stromberg-Rennweg im Sommer
UID:e523e9c5-e19e-444b-aed0-6563f26e969e
URL:https://touren-termine.adfc.de/radveranstaltung/181125-der-strombergre
 nnweg-im-sommer
END:VEVENT
END:VCALENDAR
