BEGIN:VCALENDAR
PRODID:-//github.com/rianjs/ical.net//NONSGML ical.net 4.0//EN
VERSION:2.0
BEGIN:VEVENT
DESCRIPTION:Ab Sonthofen: Ein PREMIUM-Radweg! Ein herrliches Tal von Obers
 tdorf\, das wir uns unbedingt mal anschauen müssen. Startzeit wird bei An
 meldung mitgeteilt. Helmpflicht. Anmeldung bis 12.08.24\nhttps://touren-t
 ermine.adfc.de/radveranstaltung/115506-ab-sf-ins-rappenalptal-mit-huttene
 inkehr
DTEND;VALUE=DATE:20240815
DTSTAMP:20260425T152415Z
DTSTART;VALUE=DATE:20240815
LOCATION:Bahnhofsplatz\, 87527 Sonthofen
SEQUENCE:0
SUMMARY:Ab SF: Ins Rappenalptal mit Hütteneinkehr
UID:353c68ed-d945-409a-80bd-4bd9f326f2b5
URL:https://touren-termine.adfc.de/radveranstaltung/115506-ab-sf-ins-rappe
 nalptal-mit-hutteneinkehr
END:VEVENT
END:VCALENDAR
