BEGIN:VCALENDAR
PRODID:-//github.com/rianjs/ical.net//NONSGML ical.net 4.0//EN
VERSION:2.0
BEGIN:VEVENT
DESCRIPTION:Jeden Montag findet morgens eine Radtour statt.\nhttps://toure
 n-termine.adfc.de/radveranstaltung/172691-montag-morgen-tour
DTEND:20251020T100000Z
DTSTAMP:20260423T201623Z
DTSTART:20251020T080000Z
LOCATION:In der Ahe 29\, 27356 Rotenburg
SEQUENCE:0
SUMMARY:Montag Morgen Tour
UID:3acafb9d-68db-426a-8426-8de0f1bc3b2a
URL:https://touren-termine.adfc.de/radveranstaltung/172691-montag-morgen-t
 our
END:VEVENT
END:VCALENDAR
