BEGIN:VCALENDAR
PRODID:-//github.com/rianjs/ical.net//NONSGML ical.net 4.0//EN
VERSION:2.0
BEGIN:VEVENT
DESCRIPTION:Der Wartberg ist nicht nur Weinanbaugebiet\, sondern bietet au
 ch einen tollen Blick über Heilbronn. Wir radeln über schöne Wege zum War
 tbergturm\, den man auch besteigen kann\, und am Neckar zurück\nhttps://t
 ouren-termine.adfc.de/radveranstaltung/109421-zum-wartberg-nach-heilbronn
 -pedelectour
DTEND:20240726T150000Z
DTSTAMP:20260423T191257Z
DTSTART:20240726T070000Z
LOCATION:Schiffsanlegestelle Hoheneck\, 71642 Ludwigsburg
SEQUENCE:0
SUMMARY:Zum Wartberg nach Heilbronn - Pedelec-Tour
UID:4503197c-6634-40d8-8e46-d38cb1f5a740
URL:https://touren-termine.adfc.de/radveranstaltung/109421-zum-wartberg-na
 ch-heilbronn-pedelectour
END:VEVENT
END:VCALENDAR
