BEGIN:VCALENDAR
PRODID:-//github.com/rianjs/ical.net//NONSGML ical.net 4.0//EN
VERSION:2.0
BEGIN:VEVENT
DESCRIPTION:Wir fahren über Morschreuth nach Türkelstein zur Mittagspause\
 , anschliessend über Obertrubach und das Trubachtal nach Forchheim\nzurüc
 k.\nhttps://touren-termine.adfc.de/radveranstaltung/111101-radtour-nach-t
 urkelstein-bei-gossweinstein
DTEND:20240804T153000Z
DTSTAMP:20260421T101154Z
DTSTART:20240804T080000Z
LOCATION:Nürnberger Tor\, 91301 Forchheim
SEQUENCE:0
SUMMARY:Radtour nach Türkelstein bei Gößweinstein
UID:a54e316c-1db2-4ba5-87ce-a2552f08cbb4
URL:https://touren-termine.adfc.de/radveranstaltung/111101-radtour-nach-tu
 rkelstein-bei-gossweinstein
END:VEVENT
END:VCALENDAR
