BEGIN:VCALENDAR
PRODID:-//github.com/rianjs/ical.net//NONSGML ical.net 4.0//EN
VERSION:2.0
BEGIN:VEVENT
DESCRIPTION:Wir bieten verschiedene Strecken zwischen 25 km und 35 km Läng
 e mit einer Fahrtdauer von ca. 2 Stunden an.\nhttps://touren-termine.adfc
 .de/radveranstaltung/178402-feierabendtour-parkplatz-donauarena
DTEND:20260617T160000Z
DTSTAMP:20260420T082640Z
DTSTART:20260617T160000Z
LOCATION:Parkplatz Donau-Arena\, Walhalla-Allee\, 93055 Regensburg
SEQUENCE:0
SUMMARY:Feierabendtour: Parkplatz Donau-Arena
UID:b7f98e7c-11a4-4974-83b9-03f2e5464c80
URL:https://touren-termine.adfc.de/radveranstaltung/178402-feierabendtour-
 parkplatz-donauarena
END:VEVENT
END:VCALENDAR
