BEGIN:VCALENDAR
PRODID:-//github.com/rianjs/ical.net//NONSGML ical.net 4.0//EN
VERSION:2.0
BEGIN:VEVENT
DESCRIPTION:30 - 35 km\nhttps://touren-termine.adfc.de/radveranstaltung/14
 2580-kurztour
DTEND:20250423T180000Z
DTSTAMP:20260423T105707Z
DTSTART:20250423T160000Z
LOCATION:Rathaus\, Fuhrberger Straße 3\, 30938 Burgwedel
SEQUENCE:0
SUMMARY:Kurztour
UID:8ea2c13b-1be9-4eff-91b6-46eb64844656
URL:https://touren-termine.adfc.de/radveranstaltung/142580-kurztour
END:VEVENT
END:VCALENDAR
