BEGIN:VCALENDAR
PRODID:-//github.com/rianjs/ical.net//NONSGML ical.net 4.0//EN
VERSION:2.0
BEGIN:VEVENT
DESCRIPTION:Jeden 4. Donnerstag im Monat\, Treffpunkt immer 13:00 Uhr\, im
 mer am Parkplatz am Stadtwald RY\, 30 bis 35 km\, Einkehr\, gemütliches T
 empo um 15 km/h mit Pausen.\nhttps://touren-termine.adfc.de/radveranstalt
 ung/85253-adfcseniorentour
DTEND:20230727T150000Z
DTSTAMP:20260421T040735Z
DTSTART:20230727T110000Z
LOCATION:An der Rheydter Höhe 54\, 41239 Mönchengladbach
SEQUENCE:0
SUMMARY:ADFC-Seniorentour
UID:bb8f3bc1-9051-4002-8491-78a683d13510
URL:https://touren-termine.adfc.de/radveranstaltung/85253-adfcseniorentour
END:VEVENT
END:VCALENDAR
