BEGIN:VCALENDAR
PRODID:-//github.com/rianjs/ical.net//NONSGML ical.net 4.0//EN
VERSION:2.0
BEGIN:VEVENT
DESCRIPTION:Von Gransee nach Fürstenberg auf ruhigen Wegen. Gudelack-\, Ro
 ofensee\, Stechlin und andere Seen verlocken zum Baden und Rasten.\nhttps
 ://touren-termine.adfc.de/radveranstaltung/102012-faszination-wasser-von-
 gransee-nach-furstenberg
DTEND:20230708T170000Z
DTSTAMP:20260424T203740Z
DTSTART:20230708T052000Z
LOCATION:Bhf. Berlin Südkreuz\, Ringbahnsteig\, 12101 Berlin\, 10829 Berlin
SEQUENCE:0
SUMMARY:Faszination Wasser - Von Gransee nach Fürstenberg
UID:cde494c7-f31c-4eb5-a7c5-1fb9e71c7e3a
URL:https://touren-termine.adfc.de/radveranstaltung/102012-faszination-was
 ser-von-gransee-nach-furstenberg
END:VEVENT
END:VCALENDAR
